BEGIN:VCALENDAR
VERSION:2.0
PRODID:-//Investment Treaty News - ECPv4.5.5//NONSGML v1.0//EN
CALSCALE:GREGORIAN
METHOD:PUBLISH
X-WR-CALNAME:Investment Treaty News
X-ORIGINAL-URL:http://www.iisd.org/itn
X-WR-CALDESC:Events for Investment Treaty News
BEGIN:VEVENT
DTSTART;VALUE=DATE:20170629
DTEND;VALUE=DATE:20170630
DTSTAMP:20170712T030023
CREATED:20170616T135701Z
LAST-MODIFIED:20170626T163840Z
UID:4198-1498694400-1498867199@www.iisd.org
SUMMARY:Global Forum on Responsible Business Conduct
DESCRIPTION:The Global Forum brings together stakeholders from business\, trade unions\, civil society and academia to debate key global social and economic challenges related to responsible business conduct. \n
URL:http://www.iisd.org/itn/event/global-forum-on-responsible-business-conduct/
LOCATION:2\, rue André Pascal\, Paris Cedex 16\, 75775\, France
END:VEVENT
BEGIN:VEVENT
DTSTART;TZID=Europe/Paris:20170630T143000
DTEND;TZID=Europe/Paris:20170630T173000
DTSTAMP:20170712T030023
CREATED:20170616T135701Z
LAST-MODIFIED:20170626T163951Z
UID:4202-1498833000-1498843800@www.iisd.org
SUMMARY:Topical Issues in Investment Arbitration\, Session 3\, Ne Ultra Petita
DESCRIPTION:The Research Centre on Procurement Law and International Investments (CREDIMI) (French National Centre for Scientific Research (CNRS) & University of Burgundy)\, in association with Freshfields Bruckhaus Deringer LLP\, has organised a series of three seminars on selected topics in investment treaty arbitration. \n\nOver the last three decades\, investment arbitration has emerged as the predominant method for the resolution of investor-State disputes. Its popularity continues to increase among investor claimants but its conduct remains complex and several aspects are still debated. The purpose of this series of seminars is to discuss and debate three specific topics at the fore of investment arbitration\, bringing together academics\, arbitration practitioners and policy advisors in a small international group in Paris.\n
URL:http://www.iisd.org/itn/event/topical-issues-in-investment-arbitration-session-3-ne-ultra-petita/
LOCATION:2 rue Paul Cézanne\, Paris\, 75008\, France
END:VEVENT
BEGIN:VEVENT
DTSTART;VALUE=DATE:20170712
DTEND;VALUE=DATE:20170721
DTSTAMP:20170712T030023
CREATED:20170616T135701Z
LAST-MODIFIED:20170626T164051Z
UID:4207-1499817600-1500681599@www.iisd.org
SUMMARY:Executive Training on Sustainable Investments in Agriculture
DESCRIPTION:Increased international investment in agriculture can accelerate sustainable development and help to meet growing food security needs at domestic\, regional\, and global levels. Yet\, if not structured equitably or regulated carefully\, investments can also lead to social and environmental degradation. These risks have only heightened as investments in land for agriculture have become increasingly attractive to foreign investors and host countries alike. \nIn seeking to promote responsible international investment in agriculture and encourage sustainable development\, countries face both challenges and opportunities. These include: developing robust legal and fiscal frameworks; negotiating equitable deals with investors; leveraging investments for greater sustainable development outcomes; and mitigating environmental impacts while protecting human rights. \nTo help stakeholders in addressing these issues\, the Columbia Center on Sustainable Investment (CCSI) has developed an annual executive training on international investments in agriculture. \n
URL:http://www.iisd.org/itn/event/executive-training-on-sustainable-investments-in-agriculture/
LOCATION:New York\, NY\, United States
END:VEVENT
BEGIN:VEVENT
DTSTART;VALUE=DATE:20170724
DTEND;VALUE=DATE:20170811
DTSTAMP:20170712T030023
CREATED:20170616T135700Z
LAST-MODIFIED:20170626T164211Z
UID:4211-1500854400-1502495999@www.iisd.org
SUMMARY:Curso Regional sobre Principales Temas de la Agenda Económica Internacional\, Curso No. 37 (Economías de Latinoamérica y el Caribe)
DESCRIPTION:UNCTAD & Ministerio de Asuntos Exteriores de Colombia\, en la Universidad de EAFIT\, Medellín\, Colombia\, http://unctad.org/en/Pages/MeetingDetails.aspx?meetingid=1443 \n
URL:http://www.iisd.org/itn/event/regional-course-on-key-issues-on-the-international-economic-agenda/
LOCATION:Medellín
END:VEVENT
BEGIN:VEVENT
DTSTART;VALUE=DATE:20170731
DTEND;VALUE=DATE:20170810
DTSTAMP:20170712T030023
CREATED:20170616T135700Z
LAST-MODIFIED:20170626T164309Z
UID:4217-1501459200-1502409599@www.iisd.org
SUMMARY:Executive Training on Investment Treaties and Arbitration for Government Officials
DESCRIPTION:Through an intensive course\, government officials will increase their knowledge of crucial procedural and substantive aspects of investment law\, better equipping them to deal with this complex and ever-evolving field with wide ranging implications for myriad areas of law and policy\, and direct consequences for host-state liability. \n
URL:http://www.iisd.org/itn/event/executive-training-on-investment-treaties-and-arbitration-for-government-officials/
LOCATION:New York\, NY\, United States
END:VEVENT
END:VCALENDAR